BEGIN:VCALENDAR
PRODID:-//MatrixMaxx//RemoteApi//EN
VERSION:2.0
METHOD:PUBLISH
CALSCALE:GREGORIAN
X-ORIGINAL-URL:http://www.aallnet.org/forms/meeting/MeetingFormPublic/view?id=6D6FE500000059
BEGIN:VEVENT
SUMMARY:AALL Webinar: Create Digital Accessibility: Use WCAG 2.1 to Comply with the Law
LAST-MODIFIED:20260127T190000Z
UID:ci_6D6FE500000059@matrixgroup.net
CLASS:PUBLIC
CREATED:20260127T190000Z
DTSTAMP:20260127T190000Z
DTSTART:20260127T190000Z
X-FUNAMBOL-ALLDAY:1
LOCATION:
DESCRIPTION:For full info see http://www.aallnet.org/forms/meeting/MeetingFormPublic/view?id=6D6FE500000059\n
DTEND:20260127T200000Z
URL:http://www.aallnet.org/forms/meeting/MeetingFormPublic/view?id=6D6FE500000059
END:VEVENT
END:VCALENDAR