BEGIN:VCALENDAR
PRODID:-//MatrixMaxx//RemoteApi//EN
VERSION:2.0
METHOD:PUBLISH
CALSCALE:GREGORIAN
X-ORIGINAL-URL:http://www.aallnet.org/forms/meeting/MeetingFormPublic/view?id=774BD700000002
BEGIN:VEVENT
SUMMARY:Thomson Reuters Partner Webinar: Preparing for Tomorrow’s Legal Profession Challenges
LAST-MODIFIED:20260326T160000Z
UID:ci_774BD700000002@matrixgroup.net
CLASS:PUBLIC
CREATED:20260326T160000Z
DTSTAMP:20260326T160000Z
DTSTART:20260326T160000Z
X-FUNAMBOL-ALLDAY:1
LOCATION:
DESCRIPTION:For+full+info+see+http%3A%2F%2Fwww.aallnet.org%2Fforms%2Fmeeting%2FMeetingFormPublic%2Fview%3Fid%3D774BD700000002%0A
X-WR-CALDESC:For+full+info+see+http%3A%2F%2Fwww.aallnet.org%2Fforms%2Fmeeting%2FMeetingFormPublic%2Fview%3Fid%3D774BD700000002%0A
X-WR-CALNAME:Maxx Calendar
DTEND:20260326T170000Z
URL:http://www.aallnet.org/forms/meeting/MeetingFormPublic/view?id=774BD700000002
END:VEVENT
END:VCALENDAR