BEGIN:VCALENDAR
PRODID:-//MatrixMaxx//RemoteApi//EN
VERSION:2.0
METHOD:PUBLISH
CALSCALE:GREGORIAN
X-ORIGINAL-URL:http://www.aallnet.org/forms/meeting/MeetingFormPublic/view?id=7E962E00000001
BEGIN:VEVENT
SUMMARY:LexisNexis Partner Webinar: Litigation Analytics Demystified: A Researcher’s Guide to Choosing the Right Tool
LAST-MODIFIED:20260611T180000Z
UID:ci_7E962E00000001@matrixgroup.net
CLASS:PUBLIC
CREATED:20260611T180000Z
DTSTAMP:20260611T180000Z
DTSTART:20260611T180000Z
X-FUNAMBOL-ALLDAY:1
LOCATION:
DESCRIPTION:For+full+info+see+http%3A%2F%2Fwww.aallnet.org%2Fforms%2Fmeeting%2FMeetingFormPublic%2Fview%3Fid%3D7E962E00000001%0A
X-WR-CALDESC:For+full+info+see+http%3A%2F%2Fwww.aallnet.org%2Fforms%2Fmeeting%2FMeetingFormPublic%2Fview%3Fid%3D7E962E00000001%0A
X-WR-CALNAME:Maxx Calendar
DTEND:20260611T190000Z
URL:http://www.aallnet.org/forms/meeting/MeetingFormPublic/view?id=7E962E00000001
END:VEVENT
END:VCALENDAR