BEGIN:VCALENDAR
PRODID:-//MatrixMaxx//RemoteApi//EN
VERSION:2.0
METHOD:PUBLISH
CALSCALE:GREGORIAN
X-ORIGINAL-URL:http://www.aallnet.org/forms/meeting/MeetingFormPublic/view?id=9718F00000267
BEGIN:VEVENT
SUMMARY:Virtual Coffee Chat: Future of the Federal Depository Library Program, Part 2: The Draft Report
LAST-MODIFIED:20221003T190000Z
UID:ci_9718F00000267@matrixgroup.net
CLASS:PUBLIC
CREATED:20221003T190000Z
DTSTAMP:20221003T190000Z
DTSTART:20221003T190000Z
X-FUNAMBOL-ALLDAY:1
LOCATION:
DESCRIPTION:For+full+info+see+http%3A%2F%2Fwww.aallnet.org%2Fforms%2Fmeeting%2FMeetingFormPublic%2Fview%3Fid%3D9718F00000267%0A
X-WR-CALDESC:For+full+info+see+http%3A%2F%2Fwww.aallnet.org%2Fforms%2Fmeeting%2FMeetingFormPublic%2Fview%3Fid%3D9718F00000267%0A
X-WR-CALNAME:Maxx Calendar
DTEND:20221003T194500Z
URL:http://www.aallnet.org/forms/meeting/MeetingFormPublic/view?id=9718F00000267
END:VEVENT
END:VCALENDAR