BEGIN:VCALENDAR
PRODID:-//MatrixMaxx//RemoteApi//EN
VERSION:2.0
METHOD:PUBLISH
CALSCALE:GREGORIAN
X-ORIGINAL-URL:http://www.aallnet.org/forms/meeting/MeetingFormPublic/view?id=9937B00000065
BEGIN:VEVENT
SUMMARY:How To Use Company Analytics To Support Law Firm Growth Strategies (Thomson Reuters Partner Webinar)
LAST-MODIFIED:20221018T190000Z
UID:ci_9937B00000065@matrixgroup.net
CLASS:PUBLIC
CREATED:20221018T190000Z
DTSTAMP:20221018T190000Z
DTSTART:20221018T190000Z
X-FUNAMBOL-ALLDAY:1
LOCATION:
DESCRIPTION:For full info see http://www.aallnet.org/forms/meeting/MeetingFormPublic/view?id=9937B00000065\n
DTEND:20221018T200000Z
URL:http://www.aallnet.org/forms/meeting/MeetingFormPublic/view?id=9937B00000065
END:VEVENT
END:VCALENDAR