BEGIN:VCALENDAR
PRODID:-//MatrixMaxx//RemoteApi//EN
VERSION:2.0
METHOD:PUBLISH
CALSCALE:GREGORIAN
X-ORIGINAL-URL:http://www.aallnet.org/forms/meeting/MeetingFormPublic/view?id=D9BB00000905
BEGIN:VEVENT
SUMMARY:AALL Day on the Hill: Advocacy Leadership Training & Lobby Day
LAST-MODIFIED:20190712T123000Z
UID:ci_D9BB00000905@matrixgroup.net
CLASS:PUBLIC
CREATED:20190712T123000Z
DTSTAMP:20190712T123000Z
DTSTART:20190712T123000Z
X-FUNAMBOL-ALLDAY:1
LOCATION:Marriott+Marquis
DESCRIPTION:For+full+info+see+http%3A%2F%2Fwww.aallnet.org%2Fforms%2Fmeeting%2FMeetingFormPublic%2Fview%3Fid%3DD9BB00000905%0A
X-WR-CALDESC:For+full+info+see+http%3A%2F%2Fwww.aallnet.org%2Fforms%2Fmeeting%2FMeetingFormPublic%2Fview%3Fid%3DD9BB00000905%0A
X-WR-CALNAME:Maxx Calendar
DTEND:20190712T220000Z
URL:http://www.aallnet.org/forms/meeting/MeetingFormPublic/view?id=D9BB00000905
END:VEVENT
END:VCALENDAR